BEGIN:VCALENDAR
VERSION:2.0
PRODID:-//Visit Pajala - ECPv6.14.2//NONSGML v1.0//EN
CALSCALE:GREGORIAN
METHOD:PUBLISH
X-WR-CALNAME:Visit Pajala
X-ORIGINAL-URL:https://visitpajala.se
X-WR-CALDESC:Händelser för Visit Pajala
REFRESH-INTERVAL;VALUE=DURATION:PT1H
X-Robots-Tag:noindex
X-PUBLISHED-TTL:PT1H
BEGIN:VTIMEZONE
TZID:Europe/Stockholm
BEGIN:DAYLIGHT
TZOFFSETFROM:+0100
TZOFFSETTO:+0200
TZNAME:CEST
DTSTART:20240331T010000
END:DAYLIGHT
BEGIN:STANDARD
TZOFFSETFROM:+0200
TZOFFSETTO:+0100
TZNAME:CET
DTSTART:20241027T010000
END:STANDARD
BEGIN:DAYLIGHT
TZOFFSETFROM:+0100
TZOFFSETTO:+0200
TZNAME:CEST
DTSTART:20250330T010000
END:DAYLIGHT
BEGIN:STANDARD
TZOFFSETFROM:+0200
TZOFFSETTO:+0100
TZNAME:CET
DTSTART:20251026T010000
END:STANDARD
BEGIN:DAYLIGHT
TZOFFSETFROM:+0100
TZOFFSETTO:+0200
TZNAME:CEST
DTSTART:20260329T010000
END:DAYLIGHT
BEGIN:STANDARD
TZOFFSETFROM:+0200
TZOFFSETTO:+0100
TZNAME:CET
DTSTART:20261025T010000
END:STANDARD
END:VTIMEZONE
BEGIN:VEVENT
DTSTART;TZID=Europe/Stockholm:20260222T080000
DTEND;TZID=Europe/Stockholm:20260222T103000
DTSTAMP:20260422T042311
CREATED:20260218T102347Z
LAST-MODIFIED:20260218T102347Z
UID:10002566-1771747200-1771756200@visitpajala.se
SUMMARY:Stallfrukost
DESCRIPTION:Välkommen på stallfrukost\, vi äter frukost tillsammans\, mockar\, gör stallsysslor\, borstar hästarna och så vidare!!
URL:https://visitpajala.se/kalender/stallfrukost/
LOCATION:Stallet Pajala\, Tornedalsvägen 106\, Pajala\, 98431\, Sverige
CATEGORIES:Djur & Natur,Kaffe/fika/mat
ATTACH;FMTTYPE=image/jpeg:https://visitpajala.se/wp-content/uploads/2026/02/original-DFF470A4-A831-4266-AE9C-77C2A4DD9F1D.jpeg
END:VEVENT
BEGIN:VEVENT
DTSTART;TZID=Europe/Stockholm:20241030T160000
DTEND;TZID=Europe/Stockholm:20241030T190000
DTSTAMP:20260422T042311
CREATED:20241028T150619Z
LAST-MODIFIED:20241028T150619Z
UID:10001069-1730304000-1730314800@visitpajala.se
SUMMARY:Halloween på stallet
DESCRIPTION:Hinderbana\, fiskedamm\, fika & spökvandring som Pajala Unga Riks anordnar.
URL:https://visitpajala.se/kalender/halloween-pa-stallet/
LOCATION:Pajala hästkraft Ryttarförening\, Tornedalsvägen 106\, Pajala\, 98491\, Sverige
ATTACH;FMTTYPE=image/jpeg:https://visitpajala.se/wp-content/uploads/2024/10/IMG_6450-1.jpeg
END:VEVENT
END:VCALENDAR