BEGIN:VCALENDAR
VERSION:2.0
PRODID:-//Visit Pajala - ECPv6.14.2//NONSGML v1.0//EN
CALSCALE:GREGORIAN
METHOD:PUBLISH
X-ORIGINAL-URL:https://visitpajala.se
X-WR-CALDESC:Händelser för Visit Pajala
REFRESH-INTERVAL;VALUE=DURATION:PT1H
X-Robots-Tag:noindex
X-PUBLISHED-TTL:PT1H
BEGIN:VTIMEZONE
TZID:Europe/Stockholm
BEGIN:DAYLIGHT
TZOFFSETFROM:+0100
TZOFFSETTO:+0200
TZNAME:CEST
DTSTART:20230326T010000
END:DAYLIGHT
BEGIN:STANDARD
TZOFFSETFROM:+0200
TZOFFSETTO:+0100
TZNAME:CET
DTSTART:20231029T010000
END:STANDARD
BEGIN:DAYLIGHT
TZOFFSETFROM:+0100
TZOFFSETTO:+0200
TZNAME:CEST
DTSTART:20240331T010000
END:DAYLIGHT
BEGIN:STANDARD
TZOFFSETFROM:+0200
TZOFFSETTO:+0100
TZNAME:CET
DTSTART:20241027T010000
END:STANDARD
END:VTIMEZONE
BEGIN:VEVENT
DTSTART;TZID=Europe/Stockholm:20240817T110000
DTEND;TZID=Europe/Stockholm:20240817T140000
DTSTAMP:20260422T002316
CREATED:20240814T071817Z
LAST-MODIFIED:20240814T071817Z
UID:10000749-1723892400-1723903200@visitpajala.se
SUMMARY:Glädjehoppet och loppis på stallet
DESCRIPTION:Pajala Hästkrafts RF Ungdomssektion välkomnar dig till Glädjehoppet och loppis på stallet 17 augusti kl 12-15. \nGlädjehoppet- spring en bana över hinder med käpphäst. För varje deltagare skänker Agria Hästförs-äkringar 15 kr till Barncancerfonden.\nAktiviteten är gratis. \nPassa på att göra fynd på vår loppis som håller öppet samma tid. \nFölj oss gärna på sociala medier för att se fler evenemang på stallet.\nVälkommen
URL:https://visitpajala.se/kalender/gladjehoppet-och-loppis-pa-stallet/
LOCATION:Pajala hästkraft Ryttarförening\, Tornedalsvägen 106\, Pajala\, 98491\, Sverige
CATEGORIES:Familjeunderhållning,Idrott
ATTACH;FMTTYPE=image/jpeg:https://visitpajala.se/wp-content/uploads/2024/08/FB_IMG_1723543653723-1.jpg
END:VEVENT
BEGIN:VEVENT
DTSTART;TZID=Europe/Stockholm:20230926T170000
DTEND;TZID=Europe/Stockholm:20230926T183000
DTSTAMP:20260422T002316
CREATED:20230908T112846Z
LAST-MODIFIED:20230913T053829Z
UID:10000140-1695747600-1695753000@visitpajala.se
SUMMARY:Öppet hus på Stallet
DESCRIPTION:Pajala Hästkraft samt Tornedalens Lokala Kennelklubb välkomnar er till Öppet hus på Stallet. \n  \nProgram \n18:00 firar vi stallets nya häst. Se den få sitt nya namn tillsammans med sponsoren Kaunis Iron. \nDärefter hålls det aktiviteter i ridhuset \n\nPonnyridning (50 kr/2 varv)\nHundparad\, där du som besökare får se samt lära dig mer om alla olika hundraser.\n\nI fikarummet säljer vi hembakat fika. \nPassa på att besöka stallet och träffa våra hästar och stallkatter. \nVälkommen \n  \n  \n 
URL:https://visitpajala.se/kalender/oppet-hus-pa-stallet/
LOCATION:Stallet Pajala\, Tornedalsvägen 106\, Pajala\, 98431\, Sverige
CATEGORIES:Familjeunderhållning,Idrott,Römppäviikko
ATTACH;FMTTYPE=image/png:https://visitpajala.se/wp-content/uploads/2023/09/Till-Instagram-9.png
END:VEVENT
END:VCALENDAR